BEGIN:VCALENDAR
VERSION:2.0
PRODID:-//Atelier  Ugi - ECPv6.15.18//NONSGML v1.0//EN
CALSCALE:GREGORIAN
METHOD:PUBLISH
X-WR-CALNAME:Atelier  Ugi
X-ORIGINAL-URL:https://www.atelierugi.com
X-WR-CALDESC:Atelier  Ugi için etkinlikler
REFRESH-INTERVAL;VALUE=DURATION:PT1H
X-Robots-Tag:noindex
X-PUBLISHED-TTL:PT1H
BEGIN:VTIMEZONE
TZID:Europe/Istanbul
BEGIN:STANDARD
TZOFFSETFROM:+0300
TZOFFSETTO:+0300
TZNAME:+03
DTSTART:20250101T000000
END:STANDARD
END:VTIMEZONE
BEGIN:VEVENT
DTSTART;TZID=Europe/Istanbul:20260420T190000
DTEND;TZID=Europe/Istanbul:20260420T220000
DTSTAMP:20260420T162527
CREATED:20260412T205951Z
LAST-MODIFIED:20260412T205952Z
UID:10001370-1776711600-1776722400@www.atelierugi.com
SUMMARY:Canlı Model Eşliğinde Desen Atölyesi
DESCRIPTION:Çizginin Gücünü Keşfedin: Atelier Ugi’de Her Salı Desen Buluşmaları\nAnkara’nın kültür sanat rotasında\, Çankaya’nın kalbinde yer alan Atelier Ugi; sanatseverleri sadece izlemeye değil\, üretmeye de davet ediyor. Sanat pratiğinin en temel ve en dinamik disiplinlerinden biri olan desen çalışmalarını\, haftalık düzenli oturumlarla atölyemize taşıyoruz. \nNeden Katılmalısınız? İnsan anatomisini\, ışık-gölge ilişkisini ve formun hareketini canlı bir model eşliğinde etüt etmek\, görsel algınızı geliştirmenin en etkili yoludur. İster portfolyosuna yeni çalışmalar eklemek isteyen bir güzel sanatlar öğrencisi olun\, ister günün yorgunluğunu kağıt ve kalemle atmak isteyen bir sanat tutkunu; bu atölye size özgür bir çalışma ortamı sunuyor. \nAtelier Ugi’nin ilham veren galeri atmosferinde\, şövalenizin başında yerinizi alın ve çizginin ritmine odaklanın. \nEtkinlik Detayları: \nGün: Her Pazartesi \nSaat: 19:00 – 22:00 (3 Saat) \nKonum: Atelier Ugi (Çankaya Mah. Cemal Nadir Sok. No: 10/2\, Çankaya/Ankara) \nFormat: Canlı model eşliğinde serbest desen çalışması. Katılımcıların kendi malzemelerini getirmesi beklenmektedir. \nKayıt ve Bilgi: Sınırlı kontenjan ile gerçekleşecek atölyemize katılım sağlamak ve yerinizi ayırtmak için bizimle iletişime geçebilirsiniz.
URL:https://www.atelierugi.com/etkinlik/canli-model-esliginde-desen-atolyesi-2-2/2026-04-20/
LOCATION:Atelier Ugi\, Çankaya Mah. Cemal Nadir sok. No 10 Daire 2\, Çankaya\, Ankara\, 06690
CATEGORIES:Kurs,Workshop
ATTACH;FMTTYPE=image/jpeg:https://www.atelierugi.com/wp-content/uploads/2026/01/WhatsApp-Image-2026-03-30-at-20.44.41.jpeg
ORGANIZER;CN="Atelier Ugi":MAILTO:info@atelierugi.com
END:VEVENT
END:VCALENDAR